BEGIN:VCALENDAR
VERSION:2.0
PRODID:-//angus von ardingen - ECPv6.15.20//NONSGML v1.0//EN
CALSCALE:GREGORIAN
METHOD:PUBLISH
X-WR-CALNAME:angus von ardingen
X-ORIGINAL-URL:https://barde.bayern
X-WR-CALDESC:Veranstaltungen für angus von ardingen
REFRESH-INTERVAL;VALUE=DURATION:PT1H
X-Robots-Tag:noindex
X-PUBLISHED-TTL:PT1H
BEGIN:VTIMEZONE
TZID:Europe/Berlin
BEGIN:DAYLIGHT
TZOFFSETFROM:+0100
TZOFFSETTO:+0200
TZNAME:CEST
DTSTART:20210328T010000
END:DAYLIGHT
BEGIN:STANDARD
TZOFFSETFROM:+0200
TZOFFSETTO:+0100
TZNAME:CET
DTSTART:20211031T010000
END:STANDARD
BEGIN:DAYLIGHT
TZOFFSETFROM:+0100
TZOFFSETTO:+0200
TZNAME:CEST
DTSTART:20220327T010000
END:DAYLIGHT
BEGIN:STANDARD
TZOFFSETFROM:+0200
TZOFFSETTO:+0100
TZNAME:CET
DTSTART:20221030T010000
END:STANDARD
BEGIN:DAYLIGHT
TZOFFSETFROM:+0100
TZOFFSETTO:+0200
TZNAME:CEST
DTSTART:20230326T010000
END:DAYLIGHT
BEGIN:STANDARD
TZOFFSETFROM:+0200
TZOFFSETTO:+0100
TZNAME:CET
DTSTART:20231029T010000
END:STANDARD
END:VTIMEZONE
BEGIN:VEVENT
DTSTART;VALUE=DATE:20220715
DTEND;VALUE=DATE:20220719
DTSTAMP:20260425T160138
CREATED:20220415T175724Z
LAST-MODIFIED:20220608T093609Z
UID:262006-1657857600-1658116799@barde.bayern
SUMMARY:Historisches Marktfest
DESCRIPTION:
URL:https://barde.bayern/veranstaltung/historisches-marktfest
LOCATION:Rottalmünster\, Kirchplatz\, Rottalmünster\, Bayern\, Deutschland
CATEGORIES:Historisches Stadtfest
END:VEVENT
END:VCALENDAR