BEGIN:VCALENDAR
VERSION:2.0
PRODID:-//angus von ardingen - ECPv6.15.20//NONSGML v1.0//EN
CALSCALE:GREGORIAN
METHOD:PUBLISH
X-WR-CALNAME:angus von ardingen
X-ORIGINAL-URL:https://barde.bayern
X-WR-CALDESC:Veranstaltungen für angus von ardingen
REFRESH-INTERVAL;VALUE=DURATION:PT1H
X-Robots-Tag:noindex
X-PUBLISHED-TTL:PT1H
BEGIN:VTIMEZONE
TZID:Europe/Berlin
BEGIN:DAYLIGHT
TZOFFSETFROM:+0100
TZOFFSETTO:+0200
TZNAME:CEST
DTSTART:20220327T010000
END:DAYLIGHT
BEGIN:STANDARD
TZOFFSETFROM:+0200
TZOFFSETTO:+0100
TZNAME:CET
DTSTART:20221030T010000
END:STANDARD
BEGIN:DAYLIGHT
TZOFFSETFROM:+0100
TZOFFSETTO:+0200
TZNAME:CEST
DTSTART:20230326T010000
END:DAYLIGHT
BEGIN:STANDARD
TZOFFSETFROM:+0200
TZOFFSETTO:+0100
TZNAME:CET
DTSTART:20231029T010000
END:STANDARD
BEGIN:DAYLIGHT
TZOFFSETFROM:+0100
TZOFFSETTO:+0200
TZNAME:CEST
DTSTART:20240331T010000
END:DAYLIGHT
BEGIN:STANDARD
TZOFFSETFROM:+0200
TZOFFSETTO:+0100
TZNAME:CET
DTSTART:20241027T010000
END:STANDARD
END:VTIMEZONE
BEGIN:VEVENT
DTSTART;VALUE=DATE:20230127
DTEND;VALUE=DATE:20230129
DTSTAMP:20260426T020115
CREATED:20221029T134841Z
LAST-MODIFIED:20221029T135413Z
UID:262062-1674792000-1674878399@barde.bayern
SUMMARY:Ritteressen
DESCRIPTION:
URL:https://barde.bayern/veranstaltung/ritteressen-5
LOCATION:Schlosshotel Neufahrn in Niederbayern\, Schlossweg 2\, Neufahrn in Niederbayern\, Bayern\, 84088\, Deutschland
CATEGORIES:Ritteressen
ATTACH;FMTTYPE=image/png:https://barde.bayern/wp-content/uploads/2019/10/neufahrn.png
ORGANIZER;CN="Schlosshotel Neufahrn":MAILTO:message@schlosshotel-neufahrn.de
END:VEVENT
BEGIN:VEVENT
DTSTART;VALUE=DATE:20230128
DTEND;VALUE=DATE:20230130
DTSTAMP:20260426T020115
CREATED:20221029T135000Z
LAST-MODIFIED:20221029T135433Z
UID:262064-1674878400-1674964799@barde.bayern
SUMMARY:Ritteressen
DESCRIPTION:
URL:https://barde.bayern/veranstaltung/ritteressen-6
LOCATION:Schlosshotel Neufahrn in Niederbayern\, Schlossweg 2\, Neufahrn in Niederbayern\, Bayern\, 84088\, Deutschland
CATEGORIES:Ritteressen
ATTACH;FMTTYPE=image/png:https://barde.bayern/wp-content/uploads/2019/10/neufahrn.png
ORGANIZER;CN="Schlosshotel Neufahrn":MAILTO:message@schlosshotel-neufahrn.de
END:VEVENT
END:VCALENDAR